BEGIN:VCALENDAR
VERSION:2.0
PRODID:-// - ECPv6.15.20//NONSGML v1.0//EN
CALSCALE:GREGORIAN
METHOD:PUBLISH
X-ORIGINAL-URL:http://oregoncapitol.com
X-WR-CALDESC:Events for 
REFRESH-INTERVAL;VALUE=DURATION:PT1H
X-Robots-Tag:noindex
X-PUBLISHED-TTL:PT1H
BEGIN:VTIMEZONE
TZID:America/Los_Angeles
BEGIN:DAYLIGHT
TZOFFSETFROM:-0800
TZOFFSETTO:-0700
TZNAME:PDT
DTSTART:20220313T100000
END:DAYLIGHT
BEGIN:STANDARD
TZOFFSETFROM:-0700
TZOFFSETTO:-0800
TZNAME:PST
DTSTART:20221106T090000
END:STANDARD
BEGIN:DAYLIGHT
TZOFFSETFROM:-0800
TZOFFSETTO:-0700
TZNAME:PDT
DTSTART:20230312T100000
END:DAYLIGHT
BEGIN:STANDARD
TZOFFSETFROM:-0700
TZOFFSETTO:-0800
TZNAME:PST
DTSTART:20231105T090000
END:STANDARD
BEGIN:DAYLIGHT
TZOFFSETFROM:-0800
TZOFFSETTO:-0700
TZNAME:PDT
DTSTART:20240310T100000
END:DAYLIGHT
BEGIN:STANDARD
TZOFFSETFROM:-0700
TZOFFSETTO:-0800
TZNAME:PST
DTSTART:20241103T090000
END:STANDARD
END:VTIMEZONE
BEGIN:VEVENT
DTSTART;TZID=America/Los_Angeles:20230319T190000
DTEND;TZID=America/Los_Angeles:20230319T210000
DTSTAMP:20260423T020824
CREATED:20220826T221138Z
LAST-MODIFIED:20221221T174152Z
UID:10000014-1679252400-1679259600@oregoncapitol.com
SUMMARY:"Yozakura" Nighttime Cherry Blossom Viewing
DESCRIPTION:Yozakura in State Capitol State Park\, 2022\n  \n  \n  \n  \n  \n  \n  \nJoin Oregon Parks and Recreation Rangers at State Capitol State Park from 7 p.m. to 9 p.m. as they celebrate the cherry blossoms and illuminate them to partake in a “Yozakura.” This event is free and open to the public. Please bring a blanket to sit among the blossoms\, or camp chairs\, and a picnic. No alcohol is allowed in the park\, and the park closes at 10 p.m.
URL:http://oregoncapitol.com/event/yozakura-nighttime-cherry-blossom-viewing/
LOCATION:State Capitol State Park\, 900 Court St. NE\, Salem\, OR\, 97301\, United States
CATEGORIES:Live
ATTACH;FMTTYPE=image/jpeg:http://oregoncapitol.com/wp-content/uploads/2022/08/PXL_20220327_035043429-scaled.jpg
END:VEVENT
END:VCALENDAR