BEGIN:VCALENDAR
VERSION:2.0
PRODID:-// - ECPv6.15.20//NONSGML v1.0//EN
CALSCALE:GREGORIAN
METHOD:PUBLISH
X-ORIGINAL-URL:https://oregoncapitol.com
X-WR-CALDESC:Events for 
REFRESH-INTERVAL;VALUE=DURATION:PT1H
X-Robots-Tag:noindex
X-PUBLISHED-TTL:PT1H
BEGIN:VTIMEZONE
TZID:America/Los_Angeles
BEGIN:DAYLIGHT
TZOFFSETFROM:-0800
TZOFFSETTO:-0700
TZNAME:PDT
DTSTART:20250309T100000
END:DAYLIGHT
BEGIN:STANDARD
TZOFFSETFROM:-0700
TZOFFSETTO:-0800
TZNAME:PST
DTSTART:20251102T090000
END:STANDARD
BEGIN:DAYLIGHT
TZOFFSETFROM:-0800
TZOFFSETTO:-0700
TZNAME:PDT
DTSTART:20260308T100000
END:DAYLIGHT
BEGIN:STANDARD
TZOFFSETFROM:-0700
TZOFFSETTO:-0800
TZNAME:PST
DTSTART:20261101T090000
END:STANDARD
BEGIN:DAYLIGHT
TZOFFSETFROM:-0800
TZOFFSETTO:-0700
TZNAME:PDT
DTSTART:20270314T100000
END:DAYLIGHT
BEGIN:STANDARD
TZOFFSETFROM:-0700
TZOFFSETTO:-0800
TZNAME:PST
DTSTART:20271107T090000
END:STANDARD
END:VTIMEZONE
BEGIN:VEVENT
DTSTART;VALUE=DATE:20260101
DTEND;VALUE=DATE:20270101
DTSTAMP:20260421T092451
CREATED:20230908T162249Z
LAST-MODIFIED:20260225T172250Z
UID:10000022-1767225600-1798761599@oregoncapitol.com
SUMMARY:Capitol Construction (CAMS) Exhibit
DESCRIPTION:Find out about construction at the Capitol through the years. From the Capitol’s origins to the present Capitol Accessibility\, Maintenance and Safety (CAMS) project\, this informative exhibit can be found in front of hearing rooms A-F. Open during building hours Monday through Friday.
URL:https://oregoncapitol.com/event/capitol-construction-exhibit/
LOCATION:East Galleria
CATEGORIES:Exhibit
ATTACH;FMTTYPE=image/jpeg:https://oregoncapitol.com/wp-content/uploads/2023/08/Slide-4.jpg
ORGANIZER;CN="Visitor Services":MAILTO:visitor.services@oregonlegislature.gov
END:VEVENT
BEGIN:VEVENT
DTSTART;TZID=America/Los_Angeles:20260803T080000
DTEND;TZID=America/Los_Angeles:20260828T170000
DTSTAMP:20260421T092451
CREATED:20260225T174305Z
LAST-MODIFIED:20260225T174344Z
UID:10000483-1785744000-1787936400@oregoncapitol.com
SUMMARY:Exhibit: A Willamette Farmer's Legacy - Thomas Dove Keizur
DESCRIPTION:Thomas Dove (T.D.) Keizur was an involved resident of the Oregon Territory. Participating in the first Oregon election more than 180 years ago\, serving as a pre-provisional legislator in 1844 and serving as the founding Captain of the Oregon Rangers\, Keizur embodied “an Oregonian that got involved” in Oregon’s democratic process\, which is the one of the core narrative goals of the Capitol History Gateway exhibit program. \nThis exhibit was sponsored by the Oregon State Capitol Foundation and is brought to us by the Keizer Heritage Museum.
URL:https://oregoncapitol.com/event/exhibit-a-willamette-farmers-legacy-thomas-dove-keizur/
LOCATION:West Galleria
CATEGORIES:Exhibit
ATTACH;FMTTYPE=image/png:https://oregoncapitol.com/wp-content/uploads/2024/08/TDKeizur_Press-Release-Exhibit-2000pxV2.png
ORGANIZER;CN="Visitor Services":MAILTO:visitor.services@oregonlegislature.gov
END:VEVENT
END:VCALENDAR