BEGIN:VCALENDAR
VERSION:2.0
PRODID:-// - ECPv6.15.20//NONSGML v1.0//EN
CALSCALE:GREGORIAN
METHOD:PUBLISH
X-ORIGINAL-URL:https://oregoncapitol.com
X-WR-CALDESC:Events for 
REFRESH-INTERVAL;VALUE=DURATION:PT1H
X-Robots-Tag:noindex
X-PUBLISHED-TTL:PT1H
BEGIN:VTIMEZONE
TZID:America/Los_Angeles
BEGIN:DAYLIGHT
TZOFFSETFROM:-0800
TZOFFSETTO:-0700
TZNAME:PDT
DTSTART:20240310T100000
END:DAYLIGHT
BEGIN:STANDARD
TZOFFSETFROM:-0700
TZOFFSETTO:-0800
TZNAME:PST
DTSTART:20241103T090000
END:STANDARD
BEGIN:DAYLIGHT
TZOFFSETFROM:-0800
TZOFFSETTO:-0700
TZNAME:PDT
DTSTART:20250309T100000
END:DAYLIGHT
BEGIN:STANDARD
TZOFFSETFROM:-0700
TZOFFSETTO:-0800
TZNAME:PST
DTSTART:20251102T090000
END:STANDARD
BEGIN:DAYLIGHT
TZOFFSETFROM:-0800
TZOFFSETTO:-0700
TZNAME:PDT
DTSTART:20260308T100000
END:DAYLIGHT
BEGIN:STANDARD
TZOFFSETFROM:-0700
TZOFFSETTO:-0800
TZNAME:PST
DTSTART:20261101T090000
END:STANDARD
BEGIN:DAYLIGHT
TZOFFSETFROM:-0800
TZOFFSETTO:-0700
TZNAME:PDT
DTSTART:20270314T100000
END:DAYLIGHT
BEGIN:STANDARD
TZOFFSETFROM:-0700
TZOFFSETTO:-0800
TZNAME:PST
DTSTART:20271107T090000
END:STANDARD
END:VTIMEZONE
BEGIN:VEVENT
DTSTART;TZID=America/Los_Angeles:20260214T100000
DTEND;TZID=America/Los_Angeles:20260214T140000
DTSTAMP:20260424T041804
CREATED:20220908T182754Z
LAST-MODIFIED:20250711T212611Z
UID:10000005-1771063200-1771077600@oregoncapitol.com
SUMMARY:Oregon State Constitution Exhibit
DESCRIPTION:The Oregon State Constitution is a vital document for our state. To this end\, Visitor Services and Secretary of State Archives staff works together annually to bring the actual document into the “People’s Building” for viewing. This precious document will be on display in the Capitol Galleria during Oregon’s Anniversary of Statehood event.
URL:https://oregoncapitol.com/event/oregon-state-constitution-exhibit/
LOCATION:East Galleria
CATEGORIES:Exhibit
ATTACH;FMTTYPE=image/jpeg:https://oregoncapitol.com/wp-content/uploads/2022/08/Capitol-BDay-160th-Hi-159-e1662764942931.jpg
ORGANIZER;CN="Visitor Services":MAILTO:visitor.services@oregonlegislature.gov
END:VEVENT
BEGIN:VEVENT
DTSTART;VALUE=DATE:20260209
DTEND;VALUE=DATE:20260313
DTSTAMP:20260424T041804
CREATED:20260129T164630Z
LAST-MODIFIED:20260129T164630Z
UID:10000481-1770595200-1773359999@oregoncapitol.com
SUMMARY:Oregon Blue Book Exhibit
DESCRIPTION:The Oregon Blue Book is the official\, comprehensive almanac and fact book for the State of Oregon\, published biennially in odd-numbered years by the Secretary of State’s Office since 1911. It serves as a guide to state\, local\, and federal government\, education\, and includes comprehensive information on Oregon history\, demographics\, arts\, and tourism. It is available both online and in print.  \nThe State Archives staff has curated a collection of historic Blue Books for display in the West Galleria February 9 through March 12.
URL:https://oregoncapitol.com/event/oregon-blue-book-exhibit/
LOCATION:West Galleria
CATEGORIES:Exhibit
ATTACH;FMTTYPE=image/png:https://oregoncapitol.com/wp-content/uploads/2026/01/Blue-Book-Exhibit-Photo.png
ORGANIZER;CN="Visitor Services":MAILTO:visitor.services@oregonlegislature.gov
END:VEVENT
BEGIN:VEVENT
DTSTART;VALUE=DATE:20251110
DTEND;VALUE=DATE:20251115
DTSTAMP:20260424T041804
CREATED:20251016T220637Z
LAST-MODIFIED:20251016T220659Z
UID:10000003-1762732800-1763164799@oregoncapitol.com
SUMMARY:A Tribute to Veterans Exhibit
DESCRIPTION:Pay tribute to our military veterans at this mini exhibit in the Capitol Rotunda. The colors will be posted along a small collection of uniforms from the VFW Uniform Museum.
URL:https://oregoncapitol.com/event/a-tribute-to-veterans-exhibit/
LOCATION:Rotunda
CATEGORIES:Exhibit
ATTACH;FMTTYPE=image/jpeg:https://oregoncapitol.com/wp-content/uploads/2022/08/17-Cerremony.jpg
ORGANIZER;CN="Visitor Services":MAILTO:visitor.services@oregonlegislature.gov
END:VEVENT
END:VCALENDAR